BEGIN:VCALENDAR
VERSION:2.0
PRODID:-//Espacio Gilverte - ECPv6.15.20//NONSGML v1.0//EN
CALSCALE:GREGORIAN
METHOD:PUBLISH
X-ORIGINAL-URL:https://www.espaciogilverte.com
X-WR-CALDESC:Eventos para Espacio Gilverte
REFRESH-INTERVAL;VALUE=DURATION:PT1H
X-Robots-Tag:noindex
X-PUBLISHED-TTL:PT1H
BEGIN:VTIMEZONE
TZID:Europe/Madrid
BEGIN:DAYLIGHT
TZOFFSETFROM:+0100
TZOFFSETTO:+0200
TZNAME:CEST
DTSTART:20250330T010000
END:DAYLIGHT
BEGIN:STANDARD
TZOFFSETFROM:+0200
TZOFFSETTO:+0100
TZNAME:CET
DTSTART:20251026T010000
END:STANDARD
BEGIN:DAYLIGHT
TZOFFSETFROM:+0100
TZOFFSETTO:+0200
TZNAME:CEST
DTSTART:20260329T010000
END:DAYLIGHT
BEGIN:STANDARD
TZOFFSETFROM:+0200
TZOFFSETTO:+0100
TZNAME:CET
DTSTART:20261025T010000
END:STANDARD
BEGIN:DAYLIGHT
TZOFFSETFROM:+0100
TZOFFSETTO:+0200
TZNAME:CEST
DTSTART:20270328T010000
END:DAYLIGHT
BEGIN:STANDARD
TZOFFSETFROM:+0200
TZOFFSETTO:+0100
TZNAME:CET
DTSTART:20271031T010000
END:STANDARD
END:VTIMEZONE
BEGIN:VEVENT
DTSTART;TZID=Europe/Madrid:20260309T093000
DTEND;TZID=Europe/Madrid:20260309T153000
DTSTAMP:20260419T185519
CREATED:20260302T105246Z
LAST-MODIFIED:20260302T154332Z
UID:22-1773048600-1773070200@www.espaciogilverte.com
SUMMARY:Introducción a la Kinesiología Integrativa
DESCRIPTION:La kinesiología es una técnica\, que gracias a un estimulo muscular nuestro cuerpo responde. \nResponde gracias a unos receptores que tenemos en todos los músculos de nuestro cuerpo. \nNuestro músculo creara atonía o no\, según su respuesta. \n \nEn esta introducción aprenderemos a: \n\n\n 	Dominar esta técnica\n 	Porque funciona y es tan asertiva.\n 	Personalizar tratamientos\, diagnósticos\, métodos de estudio…\n 	Conocimientos de técnicas de desarrollo.\n\n \nFormación 90%presencial 10%no presencial
URL:https://www.espaciogilverte.com/evento/introduccion-a-la-kinesiologia-integrativa/
ATTACH;FMTTYPE=image/jpeg:https://www.espaciogilverte.com/wp-content/uploads/2023/12/alexander-rotker-l8p1aWZqHvE-unsplash.jpg
END:VEVENT
END:VCALENDAR